BEGIN:VCALENDAR
VERSION:2.0
PRODID:-//Calendula - ECPv6.15.20//NONSGML v1.0//EN
CALSCALE:GREGORIAN
METHOD:PUBLISH
X-ORIGINAL-URL:https://dineatcalendula.com
X-WR-CALDESC:Events for Calendula
REFRESH-INTERVAL;VALUE=DURATION:PT1H
X-Robots-Tag:noindex
X-PUBLISHED-TTL:PT1H
BEGIN:VTIMEZONE
TZID:America/New_York
BEGIN:DAYLIGHT
TZOFFSETFROM:-0500
TZOFFSETTO:-0400
TZNAME:EDT
DTSTART:20250309T070000
END:DAYLIGHT
BEGIN:STANDARD
TZOFFSETFROM:-0400
TZOFFSETTO:-0500
TZNAME:EST
DTSTART:20251102T060000
END:STANDARD
BEGIN:DAYLIGHT
TZOFFSETFROM:-0500
TZOFFSETTO:-0400
TZNAME:EDT
DTSTART:20260308T070000
END:DAYLIGHT
BEGIN:STANDARD
TZOFFSETFROM:-0400
TZOFFSETTO:-0500
TZNAME:EST
DTSTART:20261101T060000
END:STANDARD
BEGIN:DAYLIGHT
TZOFFSETFROM:-0500
TZOFFSETTO:-0400
TZNAME:EDT
DTSTART:20270314T070000
END:DAYLIGHT
BEGIN:STANDARD
TZOFFSETFROM:-0400
TZOFFSETTO:-0500
TZNAME:EST
DTSTART:20271107T060000
END:STANDARD
END:VTIMEZONE
BEGIN:VEVENT
DTSTART;TZID=America/New_York:20260416T220000
DTEND;TZID=America/New_York:20260417T000000
DTSTAMP:20260422T062636
CREATED:20260331T035129Z
LAST-MODIFIED:20260331T040411Z
UID:2550-1776376800-1776384000@dineatcalendula.com
SUMMARY:Michael + Ben
DESCRIPTION:
URL:https://dineatcalendula.com/live-music/20260416/
CATEGORIES:Live Music
END:VEVENT
BEGIN:VEVENT
DTSTART;TZID=America/New_York:20260411T220000
DTEND;TZID=America/New_York:20260412T000000
DTSTAMP:20260422T062636
CREATED:20260329T070511Z
LAST-MODIFIED:20260329T070528Z
UID:2531-1775944800-1775952000@dineatcalendula.com
SUMMARY:Dylan Anderson
DESCRIPTION:
URL:https://dineatcalendula.com/live-music/dylan-anderson-2/
CATEGORIES:Live Music
END:VEVENT
BEGIN:VEVENT
DTSTART;TZID=America/New_York:20260409T220000
DTEND;TZID=America/New_York:20260410T000000
DTSTAMP:20260422T062636
CREATED:20260331T035043Z
LAST-MODIFIED:20260331T040425Z
UID:2547-1775772000-1775779200@dineatcalendula.com
SUMMARY:Burn Out Band
DESCRIPTION:
URL:https://dineatcalendula.com/live-music/20260409/
CATEGORIES:Live Music
END:VEVENT
BEGIN:VEVENT
DTSTART;TZID=America/New_York:20260404T220000
DTEND;TZID=America/New_York:20260405T000000
DTSTAMP:20260422T062636
CREATED:20260329T070401Z
LAST-MODIFIED:20260331T040437Z
UID:2528-1775340000-1775347200@dineatcalendula.com
SUMMARY:Dylan Anderson
DESCRIPTION:
URL:https://dineatcalendula.com/live-music/20260404/
CATEGORIES:Live Music
END:VEVENT
BEGIN:VEVENT
DTSTART;TZID=America/New_York:20260423T220000
DTEND;TZID=America/New_York:20260424T000000
DTSTAMP:20260422T062636
CREATED:20260331T034751Z
LAST-MODIFIED:20260331T040313Z
UID:2540-1776981600-1776988800@dineatcalendula.com
SUMMARY:Sam Mumper
DESCRIPTION:
URL:https://dineatcalendula.com/live-music/20260423/
CATEGORIES:Live Music
END:VEVENT
BEGIN:VEVENT
DTSTART;TZID=America/New_York:20260418T220000
DTEND;TZID=America/New_York:20260419T000000
DTSTAMP:20260422T062636
CREATED:20260331T034706Z
LAST-MODIFIED:20260331T040354Z
UID:2537-1776549600-1776556800@dineatcalendula.com
SUMMARY:Sam Mumper
DESCRIPTION:
URL:https://dineatcalendula.com/live-music/20260418/
CATEGORIES:Live Music
END:VEVENT
BEGIN:VEVENT
DTSTART;TZID=America/New_York:20260402T220000
DTEND;TZID=America/New_York:20260403T000000
DTSTAMP:20260422T062636
CREATED:20260329T065850Z
LAST-MODIFIED:20260331T040452Z
UID:2525-1775167200-1775174400@dineatcalendula.com
SUMMARY:Sam Mumper
DESCRIPTION:
URL:https://dineatcalendula.com/live-music/20260402/
CATEGORIES:Live Music
END:VEVENT
END:VCALENDAR