BEGIN:VCALENDAR
VERSION:2.0
PRODID:-//Calendula - ECPv6.15.20//NONSGML v1.0//EN
CALSCALE:GREGORIAN
METHOD:PUBLISH
X-ORIGINAL-URL:https://dineatcalendula.com
X-WR-CALDESC:Events for Calendula
REFRESH-INTERVAL;VALUE=DURATION:PT1H
X-Robots-Tag:noindex
X-PUBLISHED-TTL:PT1H
BEGIN:VTIMEZONE
TZID:America/New_York
BEGIN:DAYLIGHT
TZOFFSETFROM:-0500
TZOFFSETTO:-0400
TZNAME:EDT
DTSTART:20250309T070000
END:DAYLIGHT
BEGIN:STANDARD
TZOFFSETFROM:-0400
TZOFFSETTO:-0500
TZNAME:EST
DTSTART:20251102T060000
END:STANDARD
BEGIN:DAYLIGHT
TZOFFSETFROM:-0500
TZOFFSETTO:-0400
TZNAME:EDT
DTSTART:20260308T070000
END:DAYLIGHT
BEGIN:STANDARD
TZOFFSETFROM:-0400
TZOFFSETTO:-0500
TZNAME:EST
DTSTART:20261101T060000
END:STANDARD
BEGIN:DAYLIGHT
TZOFFSETFROM:-0500
TZOFFSETTO:-0400
TZNAME:EDT
DTSTART:20270314T070000
END:DAYLIGHT
BEGIN:STANDARD
TZOFFSETFROM:-0400
TZOFFSETTO:-0500
TZNAME:EST
DTSTART:20271107T060000
END:STANDARD
END:VTIMEZONE
BEGIN:VEVENT
DTSTART;TZID=America/New_York:20260425T220000
DTEND;TZID=America/New_York:20260426T000000
DTSTAMP:20260422T063131
CREATED:20260331T035221Z
LAST-MODIFIED:20260331T040233Z
UID:2553-1777154400-1777161600@dineatcalendula.com
SUMMARY:Michael + Ben
DESCRIPTION:
URL:https://dineatcalendula.com/live-music/20260425/
CATEGORIES:Live Music
END:VEVENT
BEGIN:VEVENT
DTSTART;TZID=America/New_York:20260430T220000
DTEND;TZID=America/New_York:20260501T000000
DTSTAMP:20260422T063131
CREATED:20260331T034837Z
LAST-MODIFIED:20260331T040151Z
UID:2543-1777586400-1777593600@dineatcalendula.com
SUMMARY:Sam Mumper
DESCRIPTION:
URL:https://dineatcalendula.com/live-music/20260430/
CATEGORIES:Live Music
END:VEVENT
END:VCALENDAR